BEGIN:VCALENDAR
VERSION:2.0
PRODID:-// - ECPv6.15.20//NONSGML v1.0//EN
CALSCALE:GREGORIAN
METHOD:PUBLISH
X-ORIGINAL-URL:https://growinginsisterhood.com
X-WR-CALDESC:Events for 
REFRESH-INTERVAL;VALUE=DURATION:PT1H
X-Robots-Tag:noindex
X-PUBLISHED-TTL:PT1H
BEGIN:VTIMEZONE
TZID:UTC
BEGIN:STANDARD
TZOFFSETFROM:+0000
TZOFFSETTO:+0000
TZNAME:UTC
DTSTART:20240101T000000
END:STANDARD
END:VTIMEZONE
BEGIN:VEVENT
DTSTART;TZID=UTC:20251005T080000
DTEND;TZID=UTC:20260226T170000
DTSTAMP:20260423T101843
CREATED:20250102T091830Z
LAST-MODIFIED:20250110T053212Z
UID:2631-1759651200-1772125200@growinginsisterhood.com
SUMMARY:The Vision Within Her
DESCRIPTION:Welcome to the The Vision Within Her Program – Mentoring Program 2025- 2026  Application! We are very glad to know you are interested in participating in our program and achieving all of your dreams. Please carefully read this application. Make sure the information you provide is complete and accurate. Also\, please do not leave any blank spaces. You will need to submit this form completely by February 21st\, 2026 at 11:59 pm. If you have any questions/issues\, do not hesitate to reach us at info@mendthevow.org. We look forward to seeing you next year! \nAs women gain more power and influence in the world of business\, they bring with them fresh ideas and innovation. Across a wide range of industries\, greater  equality for women that helps to create new products\, services\, and businesses. \n\nWhy does our program work?\nThe Vision Within Her is a student-run organization that seeks to foster students’ personal and professional development\, specifically that of women. \nThe purpose of the organization is to bridge students’ professional goals and ambitions with their personal life. \n7 challenges women entrepreneurs face and how to overcome them!\n\nYour why in your brand story\nGood storytelling has the power to inspire\, influence\, and connect. As a business owner\, you also have a\nA compelling story to tell: your brand story. Strong brand stories build trust with your audiences\, increase engagement \n\nand brand awareness\, and lead to more loyal audiencesall crucial to your company’s success. \n  \n                       How Do You Write a Compelling Brand Story?\n                                     And this are my most common response \n\nDefine Your Mission and Brand Personality. You need to clearly define \nyour business mission to ensure interesting and effective storytelling\nMake It Appealing\nStudy Storytelling\nMake Up Your Main Characters\nAdd Visuals\nStay Consistent\nMake a Difference\nActivate Your Story
URL:https://growinginsisterhood.com/event/the-vision-within-her/
CATEGORIES:The Vision Within Her
ATTACH;FMTTYPE=image/png:https://growinginsisterhood.com/wp-content/uploads/2025/01/Business-Challenge-4.png
ORGANIZER;CN="Jere%C3%A8 Ann":MAILTO:info@growinginsisterhood.com
END:VEVENT
END:VCALENDAR